Workbook

Sheet 小组循环分组表
A1: 小组循环赛分组表
A2: 序号 | B2: A组1场地 | C2: B组2场地 | D2: C组3场地 | E2: D组4场地
A3: 1 | B3: 红桃1 | C3: 黑桃1 | D3: 方块1 | E3: 梅花1
A4: 2 | B4: 红桃2 | C4: 黑桃2 | D4: 方块2 | E4: 梅花2
A5: 3 | B5: 红桃3 | C5: 黑桃3 | D5: 方块3 | E5: 梅花3
A6: 4 | B6: 红桃4 | C6: 黑桃4 | D6: 方块4 | E6: 梅花4
A7: 5 | B7: 红桃5 | C7: 黑桃5 | D7: 方块5 | E7: 梅花5
A8: 6 | B8: 红桃6 | C8: 黑桃6 | D8: 方块6 | E8: 梅花6
A12: 使用说明： | B12: 裁判用扑克牌的四种花色的A--6进行抽签分组，按照抽签的颜色，在电脑中依次输入队伍名称就可以了。例如：红桃1改成昌图队。
B13: 表格中的队伍名称会自动在小组循坏赛日程表进行编排，并且在循环赛积分表中进行排列
B14: 辽宁昌图门球狂魔

Sheet 小组循环赛日程表
A1: 小组循坏赛日程表
A2: 年 月 日
A3: 时间 | B3: 组别 | C3: 1场地 | D3: 组别 | E3: 2场地 | F3: 组别 | G3: 3场地 | H3: 组别 | I3: 4场地
A4: 0.3125 | B4: A组 | C4: =小组循环分组表!$B$3 -> 红桃1 | D4: B组 | E4: =小组循环分组表!$C$3 -> 黑桃1 | F4: C组 | G4: =小组循环分组表!$D$3 -> 方块1 | H4: D组 | I4: =小组循环分组表!$E$3 -> 梅花1
C5: =小组循环分组表!$B$8 -> 红桃6 | E5: =小组循环分组表!$C$8 -> 黑桃6 | G5: =小组循环分组表!$D$8 -> 方块6 | I5: =小组循环分组表!$E$8 -> 梅花6
A6: 0.34027778 | B6: A组 | C6: =小组循环分组表!$B$4 -> 红桃2 | D6: B组 | E6: =小组循环分组表!$C$4 -> 黑桃2 | F6: C组 | G6: =小组循环分组表!$D$4 -> 方块2 | H6: D组 | I6: =小组循环分组表!$E$4 -> 梅花2
C7: =小组循环分组表!$B$7 -> 红桃5 | E7: =小组循环分组表!$C$7 -> 黑桃5 | G7: =小组循环分组表!$D$7 -> 方块5 | I7: =小组循环分组表!$E$7 -> 梅花5
A8: 0.36111111 | B8: 开幕式
A9: 0.375 | B9: A组 | C9: =小组循环分组表!$B$5 -> 红桃3 | D9: B组 | E9: =小组循环分组表!$C$5 -> 黑桃3 | F9: C组 | G9: =小组循环分组表!$D$5 -> 方块3 | H9: D组 | I9: =小组循环分组表!$E$5 -> 梅花3
C10: =小组循环分组表!$B$6 -> 红桃4 | E10: =小组循环分组表!$C$6 -> 黑桃4 | G10: =小组循环分组表!$D$6 -> 方块4 | I10: =小组循环分组表!$E$6 -> 梅花4
A11: 0.40277778 | B11: A组 | C11: =小组循环分组表!$B$3 -> 红桃1 | D11: B组 | E11: =小组循环分组表!$C$3 -> 黑桃1 | F11: C组 | G11: =小组循环分组表!$D$3 -> 方块1 | H11: D组 | I11: =小组循环分组表!$E$3 -> 梅花1
C12: =小组循环分组表!$B$7 -> 红桃5 | E12: =小组循环分组表!$C$7 -> 黑桃5 | G12: =小组循环分组表!$D$7 -> 方块5 | I12: =小组循环分组表!$E$7 -> 梅花5
A13: 0.43055556 | B13: A组 | C13: =小组循环分组表!$B$8 -> 红桃6 | D13: B组 | E13: =小组循环分组表!$C$8 -> 黑桃6 | F13: C组 | G13: =小组循环分组表!$D$8 -> 方块6 | H13: D组 | I13: =小组循环分组表!$E$8 -> 梅花6
C14: =小组循环分组表!$B$6 -> 红桃4 | E14: =小组循环分组表!$C$6 -> 黑桃4 | G14: =小组循环分组表!$D$6 -> 方块4 | I14: =小组循环分组表!$E$6 -> 梅花4
A15: 0.45833333 | B15: A组 | C15: =小组循环分组表!$B$4 -> 红桃2 | D15: B组 | E15: =小组循环分组表!$C$4 -> 黑桃2 | F15: C组 | G15: =小组循环分组表!$D$4 -> 方块2 | H15: D组 | I15: =小组循环分组表!$E$4 -> 梅花2
C16: =小组循环分组表!$B$5 -> 红桃3 | E16: =小组循环分组表!$C$5 -> 黑桃3 | G16: =小组循环分组表!$D$5 -> 方块3 | I16: =小组循环分组表!$E$5 -> 梅花3
A17: 13时 00分 | B17: A组 | C17: =小组循环分组表!$B$3 -> 红桃1 | D17: B组 | E17: =小组循环分组表!$C$3 -> 黑桃1 | F17: C组 | G17: =小组循环分组表!$D$3 -> 方块1 | H17: D组 | I17: =小组循环分组表!$E$3 -> 梅花1
C18: =小组循环分组表!$B$6 -> 红桃4 | E18: =小组循环分组表!$C$6 -> 黑桃4 | G18: =小组循环分组表!$D$6 -> 方块4 | I18: =小组循环分组表!$E$6 -> 梅花4
A19: 0.56944444 | B19: A组 | C19: =小组循环分组表!$B$7 -> 红桃5 | D19: B组 | E19: =小组循环分组表!$C$7 -> 黑桃5 | F19: C组 | G19: =小组循环分组表!$D$7 -> 方块5 | H19: D组 | I19: =小组循环分组表!$E$7 -> 梅花5
C20: =小组循环分组表!$B$5 -> 红桃3 | E20: =小组循环分组表!$C$5 -> 黑桃3 | G20: =小组循环分组表!$D$5 -> 方块3 | I20: =小组循环分组表!$E$5 -> 梅花3
A21: 0.59722222 | B21: A组 | C21: =小组循环分组表!$B$8 -> 红桃6 | D21: B组 | E21: =小组循环分组表!$C$8 -> 黑桃6 | F21: C组 | G21: =小组循环分组表!$D$8 -> 方块6 | H21: D组 | I21: =小组循环分组表!$E$8 -> 梅花6
C22: =小组循环分组表!$B$4 -> 红桃2 | E22: =小组循环分组表!$C$4 -> 黑桃2 | G22: =小组循环分组表!$D$4 -> 方块2 | I22: =小组循环分组表!$E$4 -> 梅花2
A23: 15时 00分 | B23: A组 | C23: =小组循环分组表!$B$3 -> 红桃1 | D23: B组 | E23: =小组循环分组表!$C$3 -> 黑桃1 | F23: C组 | G23: =小组循环分组表!$D$3 -> 方块1 | H23: D组 | I23: =小组循环分组表!$E$3 -> 梅花1
C24: =小组循环分组表!$B$5 -> 红桃3 | E24: =小组循环分组表!$C$5 -> 黑桃3 | G24: =小组循环分组表!$D$5 -> 方块3 | I24: =小组循环分组表!$E$5 -> 梅花3
A25: 0.65277778 | B25: A组 | C25: =小组循环分组表!$B$6 -> 红桃4 | D25: B组 | E25: =小组循环分组表!$C$6 -> 黑桃4 | F25: C组 | G25: =小组循环分组表!$D$6 -> 方块4 | H25: D组 | I25: =小组循环分组表!$E$6 -> 梅花4
C26: =小组循环分组表!$B$4 -> 红桃2 | E26: =小组循环分组表!$C$4 -> 黑桃2 | G26: =小组循环分组表!$D$4 -> 方块2 | I26: =小组循环分组表!$E$4 -> 梅花2
A27: 0.68055556 | B27: A组 | C27: =小组循环分组表!$B$7 -> 红桃5 | D27: B组 | E27: =小组循环分组表!$C$7 -> 黑桃5 | F27: C组 | G27: =小组循环分组表!$D$7 -> 方块5 | H27: D组 | I27: =小组循环分组表!$E$7 -> 梅花5
C28: =小组循环分组表!$B$8 -> 红桃6 | E28: =小组循环分组表!$C$8 -> 黑桃6 | G28: =小组循环分组表!$D$8 -> 方块6 | I28: =小组循环分组表!$E$8 -> 梅花6
A31: 小组循坏赛日程表
A32: 年 月 日
A33: 时间 | B33: 组别 | C33: 1场地 | D33: 组别 | E33: 2场地 | F33: 组别 | G33: 3场地 | H33: 组别 | I33: 4场地
A34: 0.3125 | B34: A组 | C34: =小组循环分组表!$B$3 -> 红桃1 | D34: B组 | E34: =小组循环分组表!$C$3 -> 黑桃1 | F34: C组 | G34: =小组循环分组表!$D$3 -> 方块1 | H34: D组 | I34: =小组循环分组表!$E$3 -> 梅花1
C35: =小组循环分组表!$B$4 -> 红桃2 | E35: =小组循环分组表!$C$4 -> 黑桃2 | G35: =小组循环分组表!$D$4 -> 方块2 | I35: =小组循环分组表!$E$4 -> 梅花2
A36: 0.34027778 | B36: A组 | C36: =小组循环分组表!$B$5 -> 红桃3 | D36: B组 | E36: =小组循环分组表!$C$5 -> 黑桃3 | F36: C组 | G36: =小组循环分组表!$D$5 -> 方块3 | H36: D组 | I36: =小组循环分组表!$E$5 -> 梅花3
C37: =小组循环分组表!$B$8 -> 红桃6 | E37: =小组循环分组表!$C$8 -> 黑桃6 | G37: =小组循环分组表!$D$8 -> 方块6 | I37: =小组循环分组表!$E$8 -> 梅花6
A38: 0.36805556 | B38: A组 | C38: =小组循环分组表!$B$6 -> 红桃4 | D38: B组 | E38: =小组循环分组表!$C$6 -> 黑桃4 | F38: C组 | G38: =小组循环分组表!$D$6 -> 方块4 | H38: D组 | I38: =小组循环分组表!$E$6 -> 梅花4
C39: =小组循环分组表!$B$7 -> 红桃5 | E39: =小组循环分组表!$C$7 -> 黑桃5 | G39: =小组循环分组表!$D$7 -> 方块5 | I39: =小组循环分组表!$E$7 -> 梅花5
A40: 0.39583333 | B40: 8进4 | D40: 8进4 | F40: 8进4 | H40: 8进4
A42: 0.42361111 | B42: 4进2 | D42: 4进2 | F42: 34名决赛 | H42: 12名决赛
A44: 0.45833333
A46: 13时 00分
A48: 0.56944444
A50: 0.59722222
A52: 15时 00分
A54: 0.65277778
A56: 0.68055556

Sheet 红桃循环成绩表

Sheet 黑桃循环成绩表

Sheet 方块循环成绩表 

Sheet 梅花 循环成绩表

Sheet 8强对阵表
A1: 淘汰赛对阵表
A2: 8进4淘汰赛 | H2: 4进2半决赛 | M2: 决赛
B3: 红桃1
C4: 时间 | D4: 0.39583333
C5: 场地 | D5: ① | E5: 队名 | F5: 红桃1
B6: 红桃2 | C6: 比分 | D6: 0.39583333
B8: 黑桃1
C9: 时间 | D9: 0.39583333
C10: 场地 | D10: ② | E10: 队名 | F10: 黑桃1
B11: 黑桃2 | C11: 比分 | D11: 0.39583333 | I11: 时间 | J11: 0.42361111 | K11: 时间 | L11: 0.45138889
I12: 场地 | K12: 场地
B13: 方块1 | I13: 比分 | K13: 比分 | M13: 第一
C14: 时间 | D14: 0.39583333 | I14: 名称 | K14: 名称 | M14: 第二
C15: 场地 | D15: ③ | E15: 队名 | F15: 方片1
B16: 方块2 | C16: 比分 | D16: 0.39583333
B18: 梅花1
C19: 时间 | D19: 0.39583333
C20: 场地 | D20: ④ | E20: 队名 | F20: 梅花1
B21: 梅花2 | C21: 比分 | D21: 0.39583333
B28: 说明：红桃、黑桃、方块、梅花根据实际情况进行填写， 直至决出最后结果。
